BEGIN:VCALENDAR
VERSION:2.0
PRODID:-//Hutt International Boys&#039; School - ECPv5.1.6//NONSGML v1.0//EN
CALSCALE:GREGORIAN
METHOD:PUBLISH
X-WR-CALNAME:Hutt International Boys&#039; School
X-ORIGINAL-URL:https://www.hibs.school.nz
X-WR-CALDESC:Events for Hutt International Boys&#039; School
BEGIN:VTIMEZONE
TZID:Pacific/Auckland
BEGIN:STANDARD
TZOFFSETFROM:+1300
TZOFFSETTO:+1200
TZNAME:NZST
DTSTART:20230401T140000
END:STANDARD
BEGIN:DAYLIGHT
TZOFFSETFROM:+1200
TZOFFSETTO:+1300
TZNAME:NZDT
DTSTART:20230923T140000
END:DAYLIGHT
END:VTIMEZONE
BEGIN:VEVENT
DTSTART;TZID=Pacific/Auckland:20230907T080000
DTEND;TZID=Pacific/Auckland:20230907T170000
DTSTAMP:20260421T172849
CREATED:20230810T034332Z
LAST-MODIFIED:20230810T034332Z
UID:27383-1694073600-1694106000@www.hibs.school.nz
SUMMARY:Year 9 Subject Selection
DESCRIPTION:Year 9 subject selections due today
URL:https://www.hibs.school.nz/event/year-9-subject-selection/
END:VEVENT
BEGIN:VEVENT
DTSTART;TZID=Pacific/Auckland:20230907T121000
DTEND;TZID=Pacific/Auckland:20230912T125500
DTSTAMP:20260421T172849
CREATED:20230906T233502Z
LAST-MODIFIED:20230906T233502Z
UID:27508-1694088600-1694523300@www.hibs.school.nz
SUMMARY:Chapel Service Assembly
DESCRIPTION:Full formal uniform today
URL:https://www.hibs.school.nz/event/chapel-service-assembly-2/
END:VEVENT
END:VCALENDAR