BEGIN:VCALENDAR
VERSION:2.0
PRODID:-//Hutt International Boys&#039; School - ECPv5.1.6//NONSGML v1.0//EN
CALSCALE:GREGORIAN
METHOD:PUBLISH
X-WR-CALNAME:Hutt International Boys&#039; School
X-ORIGINAL-URL:https://www.hibs.school.nz
X-WR-CALDESC:Events for Hutt International Boys&#039; School
BEGIN:VTIMEZONE
TZID:Pacific/Auckland
BEGIN:STANDARD
TZOFFSETFROM:+1300
TZOFFSETTO:+1200
TZNAME:NZST
DTSTART:20260404T140000
END:STANDARD
BEGIN:DAYLIGHT
TZOFFSETFROM:+1200
TZOFFSETTO:+1300
TZNAME:NZDT
DTSTART:20260926T140000
END:DAYLIGHT
END:VTIMEZONE
BEGIN:VEVENT
DTSTART;TZID=Pacific/Auckland:20260128T084500
DTEND;TZID=Pacific/Auckland:20260128T154500
DTSTAMP:20260423T233656
CREATED:20251107T012705Z
LAST-MODIFIED:20251107T012705Z
UID:30186-1769589900-1769615100@www.hibs.school.nz
SUMMARY:Yr 13 Students with Housemasters
DESCRIPTION:Year 13 Students  in with Housemasters\n8.45am to 3pm.
URL:https://www.hibs.school.nz/event/yr-13-students-with-housemasters/
END:VEVENT
END:VCALENDAR