BEGIN:VCALENDAR
VERSION:2.0
PRODID:-//Hutt International Boys&#039; School - ECPv5.1.6//NONSGML v1.0//EN
CALSCALE:GREGORIAN
METHOD:PUBLISH
X-WR-CALNAME:Hutt International Boys&#039; School
X-ORIGINAL-URL:https://www.hibs.school.nz
X-WR-CALDESC:Events for Hutt International Boys&#039; School
BEGIN:VTIMEZONE
TZID:Pacific/Auckland
BEGIN:STANDARD
TZOFFSETFROM:+1300
TZOFFSETTO:+1200
TZNAME:NZST
DTSTART:20230401T140000
END:STANDARD
BEGIN:DAYLIGHT
TZOFFSETFROM:+1200
TZOFFSETTO:+1300
TZNAME:NZDT
DTSTART:20230923T140000
END:DAYLIGHT
END:VTIMEZONE
BEGIN:VEVENT
DTSTART;TZID=Pacific/Auckland:20230914T080000
DTEND;TZID=Pacific/Auckland:20230914T170000
DTSTAMP:20260424T005254
CREATED:20230810T034558Z
LAST-MODIFIED:20230810T034558Z
UID:27385-1694678400-1694710800@www.hibs.school.nz
SUMMARY:Year 8 Subject Selections
DESCRIPTION:These are due today for 2024
URL:https://www.hibs.school.nz/event/year-8-subject-selections/
END:VEVENT
END:VCALENDAR