BEGIN:VCALENDAR
VERSION:2.0
PRODID:-//Hutt International Boys&#039; School - ECPv5.1.6//NONSGML v1.0//EN
CALSCALE:GREGORIAN
METHOD:PUBLISH
X-WR-CALNAME:Hutt International Boys&#039; School
X-ORIGINAL-URL:https://www.hibs.school.nz
X-WR-CALDESC:Events for Hutt International Boys&#039; School
BEGIN:VTIMEZONE
TZID:Pacific/Auckland
BEGIN:STANDARD
TZOFFSETFROM:+1300
TZOFFSETTO:+1200
TZNAME:NZST
DTSTART:20260404T140000
END:STANDARD
BEGIN:DAYLIGHT
TZOFFSETFROM:+1200
TZOFFSETTO:+1300
TZNAME:NZDT
DTSTART:20260926T140000
END:DAYLIGHT
END:VTIMEZONE
BEGIN:VEVENT
DTSTART;TZID=Pacific/Auckland:20260225T080000
DTEND;TZID=Pacific/Auckland:20260227T170000
DTSTAMP:20260423T071838
CREATED:20260128T021306Z
LAST-MODIFIED:20260128T021306Z
UID:30282-1772006400-1772211600@www.hibs.school.nz
SUMMARY:Year 7 Camp
DESCRIPTION:For 3 days 25-27 February \nMore details to follow
URL:https://www.hibs.school.nz/event/year-7-camp-3/
END:VEVENT
END:VCALENDAR