BEGIN:VCALENDAR
VERSION:2.0
PRODID:-//Hutt International Boys&#039; School - ECPv5.1.6//NONSGML v1.0//EN
CALSCALE:GREGORIAN
METHOD:PUBLISH
X-WR-CALNAME:Hutt International Boys&#039; School
X-ORIGINAL-URL:https://www.hibs.school.nz
X-WR-CALDESC:Events for Hutt International Boys&#039; School
BEGIN:VTIMEZONE
TZID:Pacific/Auckland
BEGIN:STANDARD
TZOFFSETFROM:+1300
TZOFFSETTO:+1200
TZNAME:NZST
DTSTART:20230401T140000
END:STANDARD
BEGIN:DAYLIGHT
TZOFFSETFROM:+1200
TZOFFSETTO:+1300
TZNAME:NZDT
DTSTART:20230923T140000
END:DAYLIGHT
END:VTIMEZONE
BEGIN:VEVENT
DTSTART;TZID=Pacific/Auckland:20230622T070000
DTEND;TZID=Pacific/Auckland:20230622T081500
DTSTAMP:20260423T161935
CREATED:20230328T215446Z
LAST-MODIFIED:20230512T023729Z
UID:26948-1687417200-1687421700@www.hibs.school.nz
SUMMARY:Year 7 Breakfast
DESCRIPTION:
URL:https://www.hibs.school.nz/event/year-7-breakfast-3/
LOCATION:HIBS Auditorium
END:VEVENT
END:VCALENDAR