BEGIN:VCALENDAR
VERSION:2.0
PRODID:-//Hutt International Boys&#039; School - ECPv5.1.6//NONSGML v1.0//EN
CALSCALE:GREGORIAN
METHOD:PUBLISH
X-WR-CALNAME:Hutt International Boys&#039; School
X-ORIGINAL-URL:https://www.hibs.school.nz
X-WR-CALDESC:Events for Hutt International Boys&#039; School
BEGIN:VTIMEZONE
TZID:Pacific/Auckland
BEGIN:STANDARD
TZOFFSETFROM:+1300
TZOFFSETTO:+1200
TZNAME:NZST
DTSTART:20250405T140000
END:STANDARD
BEGIN:DAYLIGHT
TZOFFSETFROM:+1200
TZOFFSETTO:+1300
TZNAME:NZDT
DTSTART:20250927T140000
END:DAYLIGHT
END:VTIMEZONE
BEGIN:VEVENT
DTSTART;TZID=Pacific/Auckland:20250313T080000
DTEND;TZID=Pacific/Auckland:20250313T170000
DTSTAMP:20260423T115411
CREATED:20250204T023907Z
LAST-MODIFIED:20250204T023907Z
UID:29033-1741852800-1741885200@www.hibs.school.nz
SUMMARY:Year 7 & 8 Wellesley Exchange
DESCRIPTION:
URL:https://www.hibs.school.nz/event/year-7-8-wellesley-exchange/
END:VEVENT
END:VCALENDAR