BEGIN:VCALENDAR
VERSION:2.0
PRODID:-//Hutt International Boys&#039; School - ECPv5.1.6//NONSGML v1.0//EN
CALSCALE:GREGORIAN
METHOD:PUBLISH
X-WR-CALNAME:Hutt International Boys&#039; School
X-ORIGINAL-URL:https://www.hibs.school.nz
X-WR-CALDESC:Events for Hutt International Boys&#039; School
BEGIN:VTIMEZONE
TZID:Pacific/Auckland
BEGIN:STANDARD
TZOFFSETFROM:+1300
TZOFFSETTO:+1200
TZNAME:NZST
DTSTART:20260404T140000
END:STANDARD
BEGIN:DAYLIGHT
TZOFFSETFROM:+1200
TZOFFSETTO:+1300
TZNAME:NZDT
DTSTART:20260926T140000
END:DAYLIGHT
END:VTIMEZONE
BEGIN:VEVENT
DTSTART;TZID=Pacific/Auckland:20260202T084000
DTEND;TZID=Pacific/Auckland:20260202T151500
DTSTAMP:20260423T195956
CREATED:20250716T224852Z
LAST-MODIFIED:20250716T224852Z
UID:29770-1770021600-1770045300@www.hibs.school.nz
SUMMARY:Year 7 & 13 Induction Day
DESCRIPTION:
URL:https://www.hibs.school.nz/event/year-7-13-induction-day/
END:VEVENT
END:VCALENDAR