BEGIN:VCALENDAR
VERSION:2.0
PRODID:-//Hutt International Boys&#039; School - ECPv5.1.6//NONSGML v1.0//EN
CALSCALE:GREGORIAN
METHOD:PUBLISH
X-WR-CALNAME:Hutt International Boys&#039; School
X-ORIGINAL-URL:https://www.hibs.school.nz
X-WR-CALDESC:Events for Hutt International Boys&#039; School
BEGIN:VTIMEZONE
TZID:Pacific/Auckland
BEGIN:STANDARD
TZOFFSETFROM:+1300
TZOFFSETTO:+1200
TZNAME:NZST
DTSTART:20230401T140000
END:STANDARD
BEGIN:DAYLIGHT
TZOFFSETFROM:+1200
TZOFFSETTO:+1300
TZNAME:NZDT
DTSTART:20230923T140000
END:DAYLIGHT
END:VTIMEZONE
BEGIN:VEVENT
DTSTART;TZID=Pacific/Auckland:20230821T183000
DTEND;TZID=Pacific/Auckland:20230821T193000
DTSTAMP:20260421T210322
CREATED:20230810T033347Z
LAST-MODIFIED:20230810T033527Z
UID:27367-1692642600-1692646200@www.hibs.school.nz
SUMMARY:Subject Info Evening
DESCRIPTION:For Year 11 & 12 at 6.30pm \nFor Year 10 at 7.00pm
URL:https://www.hibs.school.nz/event/year-11-semi-formal-3/
LOCATION:HIBS Auditorium
END:VEVENT
END:VCALENDAR