BEGIN:VCALENDAR
VERSION:2.0
PRODID:-//Hutt International Boys&#039; School - ECPv5.1.6//NONSGML v1.0//EN
CALSCALE:GREGORIAN
METHOD:PUBLISH
X-WR-CALNAME:Hutt International Boys&#039; School
X-ORIGINAL-URL:https://www.hibs.school.nz
X-WR-CALDESC:Events for Hutt International Boys&#039; School
BEGIN:VTIMEZONE
TZID:Pacific/Auckland
BEGIN:STANDARD
TZOFFSETFROM:+1300
TZOFFSETTO:+1200
TZNAME:NZST
DTSTART:20260404T140000
END:STANDARD
BEGIN:DAYLIGHT
TZOFFSETFROM:+1200
TZOFFSETTO:+1300
TZNAME:NZDT
DTSTART:20260926T140000
END:DAYLIGHT
END:VTIMEZONE
BEGIN:VEVENT
DTSTART;TZID=Pacific/Auckland:20260218T190000
DTEND;TZID=Pacific/Auckland:20260218T210000
DTSTAMP:20260423T110935
CREATED:20260128T020519Z
LAST-MODIFIED:20260129T022434Z
UID:30278-1771441200-1771448400@www.hibs.school.nz
SUMMARY:Year 10 Parents Evening
DESCRIPTION:More details to follow
URL:https://www.hibs.school.nz/event/year-10-parents-evening-6/
LOCATION:HIBS staffroom
END:VEVENT
END:VCALENDAR