BEGIN:VCALENDAR
VERSION:2.0
PRODID:-//Hutt International Boys&#039; School - ECPv5.1.6//NONSGML v1.0//EN
CALSCALE:GREGORIAN
METHOD:PUBLISH
X-WR-CALNAME:Hutt International Boys&#039; School
X-ORIGINAL-URL:https://www.hibs.school.nz
X-WR-CALDESC:Events for Hutt International Boys&#039; School
BEGIN:VTIMEZONE
TZID:Pacific/Auckland
BEGIN:STANDARD
TZOFFSETFROM:+1300
TZOFFSETTO:+1200
TZNAME:NZST
DTSTART:20230401T140000
END:STANDARD
BEGIN:DAYLIGHT
TZOFFSETFROM:+1200
TZOFFSETTO:+1300
TZNAME:NZDT
DTSTART:20230923T140000
END:DAYLIGHT
END:VTIMEZONE
BEGIN:VEVENT
DTSTART;TZID=Pacific/Auckland:20230615T080000
DTEND;TZID=Pacific/Auckland:20230615T150000
DTSTAMP:20260424T042338
CREATED:20230612T021342Z
LAST-MODIFIED:20230612T021342Z
UID:27162-1686816000-1686841200@www.hibs.school.nz
SUMMARY:Wellesley exchange for Year 7&8
DESCRIPTION:
URL:https://www.hibs.school.nz/event/wellesley-exchange-for-year-78-2/
END:VEVENT
END:VCALENDAR