BEGIN:VCALENDAR
VERSION:2.0
PRODID:-//Hutt International Boys&#039; School - ECPv5.1.6//NONSGML v1.0//EN
CALSCALE:GREGORIAN
METHOD:PUBLISH
X-WR-CALNAME:Hutt International Boys&#039; School
X-ORIGINAL-URL:https://www.hibs.school.nz
X-WR-CALDESC:Events for Hutt International Boys&#039; School
BEGIN:VTIMEZONE
TZID:Pacific/Auckland
BEGIN:STANDARD
TZOFFSETFROM:+1300
TZOFFSETTO:+1200
TZNAME:NZST
DTSTART:20250405T140000
END:STANDARD
BEGIN:DAYLIGHT
TZOFFSETFROM:+1200
TZOFFSETTO:+1300
TZNAME:NZDT
DTSTART:20250927T140000
END:DAYLIGHT
END:VTIMEZONE
BEGIN:VEVENT
DTSTART;TZID=Pacific/Auckland:20250206T084000
DTEND;TZID=Pacific/Auckland:20250206T170000
DTSTAMP:20260424T135038
CREATED:20241127T024231Z
LAST-MODIFIED:20241127T024231Z
UID:28826-1738831200-1738861200@www.hibs.school.nz
SUMMARY:Waitangi Day - School is closed to students
DESCRIPTION:
URL:https://www.hibs.school.nz/event/waitangi-day-school-is-closed-to-students/
END:VEVENT
END:VCALENDAR