BEGIN:VCALENDAR
VERSION:2.0
PRODID:-//Hutt International Boys&#039; School - ECPv5.1.6//NONSGML v1.0//EN
CALSCALE:GREGORIAN
METHOD:PUBLISH
X-WR-CALNAME:Hutt International Boys&#039; School
X-ORIGINAL-URL:https://www.hibs.school.nz
X-WR-CALDESC:Events for Hutt International Boys&#039; School
BEGIN:VTIMEZONE
TZID:Pacific/Auckland
BEGIN:STANDARD
TZOFFSETFROM:+1300
TZOFFSETTO:+1200
TZNAME:NZST
DTSTART:20240406T140000
END:STANDARD
BEGIN:DAYLIGHT
TZOFFSETFROM:+1200
TZOFFSETTO:+1300
TZNAME:NZDT
DTSTART:20240928T140000
END:DAYLIGHT
END:VTIMEZONE
BEGIN:VEVENT
DTSTART;TZID=Pacific/Auckland:20240826T183000
DTEND;TZID=Pacific/Auckland:20240826T200000
DTSTAMP:20260425T045628
CREATED:20240701T032118Z
LAST-MODIFIED:20240701T032219Z
UID:28403-1724697000-1724702400@www.hibs.school.nz
SUMMARY:Subject Information Evening
DESCRIPTION:In the Auditorium \nYr11 & 12 at 6.30pm \nY10 at 7pm
URL:https://www.hibs.school.nz/event/subject-information-evening-3/
LOCATION:HIBS Auditorium
END:VEVENT
END:VCALENDAR