BEGIN:VCALENDAR
VERSION:2.0
PRODID:-//Hutt International Boys&#039; School - ECPv5.1.6//NONSGML v1.0//EN
CALSCALE:GREGORIAN
METHOD:PUBLISH
X-WR-CALNAME:Hutt International Boys&#039; School
X-ORIGINAL-URL:https://www.hibs.school.nz
X-WR-CALDESC:Events for Hutt International Boys&#039; School
BEGIN:VTIMEZONE
TZID:Pacific/Auckland
BEGIN:STANDARD
TZOFFSETFROM:+1300
TZOFFSETTO:+1200
TZNAME:NZST
DTSTART:20230401T140000
END:STANDARD
BEGIN:DAYLIGHT
TZOFFSETFROM:+1200
TZOFFSETTO:+1300
TZNAME:NZDT
DTSTART:20230923T140000
END:DAYLIGHT
END:VTIMEZONE
BEGIN:VEVENT
DTSTART;TZID=Pacific/Auckland:20230914T190000
DTEND;TZID=Pacific/Auckland:20230914T203000
DTSTAMP:20260424T024544
CREATED:20230907T000104Z
LAST-MODIFIED:20230907T003349Z
UID:27517-1694718000-1694723400@www.hibs.school.nz
SUMMARY:Senior Drama Evening
DESCRIPTION:Location: P5 – Performing Arts Block \nThe Play That Goes Wrong/ Murder at Haversham Manor’
URL:https://www.hibs.school.nz/event/senior-drama-evening/
END:VEVENT
END:VCALENDAR