BEGIN:VCALENDAR
VERSION:2.0
PRODID:-//Hutt International Boys&#039; School - ECPv5.1.6//NONSGML v1.0//EN
CALSCALE:GREGORIAN
METHOD:PUBLISH
X-WR-CALNAME:Hutt International Boys&#039; School
X-ORIGINAL-URL:https://www.hibs.school.nz
X-WR-CALDESC:Events for Hutt International Boys&#039; School
BEGIN:VTIMEZONE
TZID:Pacific/Auckland
BEGIN:STANDARD
TZOFFSETFROM:+1300
TZOFFSETTO:+1200
TZNAME:NZST
DTSTART:20260404T140000
END:STANDARD
BEGIN:DAYLIGHT
TZOFFSETFROM:+1200
TZOFFSETTO:+1300
TZNAME:NZDT
DTSTART:20260926T140000
END:DAYLIGHT
END:VTIMEZONE
BEGIN:VEVENT
DTSTART;TZID=Pacific/Auckland:20260129T080000
DTEND;TZID=Pacific/Auckland:20260130T170000
DTSTAMP:20260423T214604
CREATED:20250716T224743Z
LAST-MODIFIED:20250716T224743Z
UID:29768-1769673600-1769792400@www.hibs.school.nz
SUMMARY:School is closed - Teacher only days
DESCRIPTION:School is closed to students
URL:https://www.hibs.school.nz/event/school-is-closed-teacher-only-days/
END:VEVENT
END:VCALENDAR