BEGIN:VCALENDAR
VERSION:2.0
PRODID:-//Hutt International Boys&#039; School - ECPv5.1.6//NONSGML v1.0//EN
CALSCALE:GREGORIAN
METHOD:PUBLISH
X-WR-CALNAME:Hutt International Boys&#039; School
X-ORIGINAL-URL:https://www.hibs.school.nz
X-WR-CALDESC:Events for Hutt International Boys&#039; School
BEGIN:VTIMEZONE
TZID:Pacific/Auckland
BEGIN:STANDARD
TZOFFSETFROM:+1300
TZOFFSETTO:+1200
TZNAME:NZST
DTSTART:20240406T140000
END:STANDARD
BEGIN:DAYLIGHT
TZOFFSETFROM:+1200
TZOFFSETTO:+1300
TZNAME:NZDT
DTSTART:20240928T140000
END:DAYLIGHT
END:VTIMEZONE
BEGIN:VEVENT
DTSTART;TZID=Pacific/Auckland:20240323T150000
DTEND;TZID=Pacific/Auckland:20240324T150000
DTSTAMP:20260426T000530
CREATED:20240208T023121Z
LAST-MODIFIED:20240314T005631Z
UID:27846-1711206000-1711292400@www.hibs.school.nz
SUMMARY:Relay For Life Weekend
DESCRIPTION:Starts 3pm Saturday – 7.30am Sunday at the Trentham Racecourse
URL:https://www.hibs.school.nz/event/relay-for-life-weekend-3/
END:VEVENT
END:VCALENDAR