BEGIN:VCALENDAR
VERSION:2.0
PRODID:-//Hutt International Boys&#039; School - ECPv5.1.6//NONSGML v1.0//EN
CALSCALE:GREGORIAN
METHOD:PUBLISH
X-WR-CALNAME:Hutt International Boys&#039; School
X-ORIGINAL-URL:https://www.hibs.school.nz
X-WR-CALDESC:Events for Hutt International Boys&#039; School
BEGIN:VTIMEZONE
TZID:Pacific/Auckland
BEGIN:STANDARD
TZOFFSETFROM:+1300
TZOFFSETTO:+1200
TZNAME:NZST
DTSTART:20230401T140000
END:STANDARD
BEGIN:DAYLIGHT
TZOFFSETFROM:+1200
TZOFFSETTO:+1300
TZNAME:NZDT
DTSTART:20230923T140000
END:DAYLIGHT
END:VTIMEZONE
BEGIN:VEVENT
DTSTART;TZID=Pacific/Auckland:20230804T080000
DTEND;TZID=Pacific/Auckland:20230804T170000
DTSTAMP:20260422T235759
CREATED:20230721T003229Z
LAST-MODIFIED:20230721T003229Z
UID:27270-1691136000-1691168400@www.hibs.school.nz
SUMMARY:PSA Art Auction
DESCRIPTION:In the Auditorium. All welcome to view throughout the day
URL:https://www.hibs.school.nz/event/psa-art-auction-2/
END:VEVENT
END:VCALENDAR