BEGIN:VCALENDAR
VERSION:2.0
PRODID:-//Hutt International Boys&#039; School - ECPv5.1.6//NONSGML v1.0//EN
CALSCALE:GREGORIAN
METHOD:PUBLISH
X-WR-CALNAME:Hutt International Boys&#039; School
X-ORIGINAL-URL:https://www.hibs.school.nz
X-WR-CALDESC:Events for Hutt International Boys&#039; School
BEGIN:VTIMEZONE
TZID:Pacific/Auckland
BEGIN:STANDARD
TZOFFSETFROM:+1300
TZOFFSETTO:+1200
TZNAME:NZST
DTSTART:20250405T140000
END:STANDARD
BEGIN:DAYLIGHT
TZOFFSETFROM:+1200
TZOFFSETTO:+1300
TZNAME:NZDT
DTSTART:20250927T140000
END:DAYLIGHT
END:VTIMEZONE
BEGIN:VEVENT
DTSTART;TZID=Pacific/Auckland:20250329T090000
DTEND;TZID=Pacific/Auckland:20250329T133000
DTSTAMP:20260423T151812
CREATED:20250204T024300Z
LAST-MODIFIED:20250328T220701Z
UID:29041-1743238800-1743255000@www.hibs.school.nz
SUMMARY:Open Day @ HIBS
DESCRIPTION:Everyone welcome 9am – 1.30pm
URL:https://www.hibs.school.nz/event/open-day-hibs/
END:VEVENT
END:VCALENDAR