BEGIN:VCALENDAR
VERSION:2.0
PRODID:-//Hutt International Boys&#039; School - ECPv5.1.6//NONSGML v1.0//EN
CALSCALE:GREGORIAN
METHOD:PUBLISH
X-WR-CALNAME:Hutt International Boys&#039; School
X-ORIGINAL-URL:https://www.hibs.school.nz
X-WR-CALDESC:Events for Hutt International Boys&#039; School
BEGIN:VTIMEZONE
TZID:Pacific/Auckland
BEGIN:STANDARD
TZOFFSETFROM:+1300
TZOFFSETTO:+1200
TZNAME:NZST
DTSTART:20240406T140000
END:STANDARD
BEGIN:DAYLIGHT
TZOFFSETFROM:+1200
TZOFFSETTO:+1300
TZNAME:NZDT
DTSTART:20240928T140000
END:DAYLIGHT
END:VTIMEZONE
BEGIN:VEVENT
DTSTART;TZID=Pacific/Auckland:20240216T160000
DTEND;TZID=Pacific/Auckland:20240216T170000
DTSTAMP:20260423T013947
CREATED:20240208T014413Z
LAST-MODIFIED:20240208T014413Z
UID:27816-1708099200-1708102800@www.hibs.school.nz
SUMMARY:Old Boys' Father and Sons event
DESCRIPTION:4pm in the Common Room
URL:https://www.hibs.school.nz/event/old-boys-father-and-sons-event/
END:VEVENT
END:VCALENDAR