BEGIN:VCALENDAR
VERSION:2.0
PRODID:-//Hutt International Boys&#039; School - ECPv5.1.6//NONSGML v1.0//EN
CALSCALE:GREGORIAN
METHOD:PUBLISH
X-WR-CALNAME:Hutt International Boys&#039; School
X-ORIGINAL-URL:https://www.hibs.school.nz
X-WR-CALDESC:Events for Hutt International Boys&#039; School
BEGIN:VTIMEZONE
TZID:Pacific/Auckland
BEGIN:STANDARD
TZOFFSETFROM:+1300
TZOFFSETTO:+1200
TZNAME:NZST
DTSTART:20260404T140000
END:STANDARD
BEGIN:DAYLIGHT
TZOFFSETFROM:+1200
TZOFFSETTO:+1300
TZNAME:NZDT
DTSTART:20260926T140000
END:DAYLIGHT
END:VTIMEZONE
BEGIN:VEVENT
DTSTART;TZID=Pacific/Auckland:20260304T083000
DTEND;TZID=Pacific/Auckland:20260304T151500
DTSTAMP:20260424T204721
CREATED:20260128T021731Z
LAST-MODIFIED:20260128T021731Z
UID:30289-1772613000-1772637300@www.hibs.school.nz
SUMMARY:Octathlon Day
DESCRIPTION:All students to be in their House colours \nWater\, sunblock and a pack lunch
URL:https://www.hibs.school.nz/event/octathlon-day-5/
END:VEVENT
END:VCALENDAR