BEGIN:VCALENDAR
VERSION:2.0
PRODID:-//Hutt International Boys&#039; School - ECPv5.1.6//NONSGML v1.0//EN
CALSCALE:GREGORIAN
METHOD:PUBLISH
X-WR-CALNAME:Hutt International Boys&#039; School
X-ORIGINAL-URL:https://www.hibs.school.nz
X-WR-CALDESC:Events for Hutt International Boys&#039; School
BEGIN:VTIMEZONE
TZID:Pacific/Auckland
BEGIN:STANDARD
TZOFFSETFROM:+1300
TZOFFSETTO:+1200
TZNAME:NZST
DTSTART:20210403T140000
END:STANDARD
BEGIN:DAYLIGHT
TZOFFSETFROM:+1200
TZOFFSETTO:+1300
TZNAME:NZDT
DTSTART:20210925T140000
END:DAYLIGHT
END:VTIMEZONE
BEGIN:VEVENT
DTSTART;VALUE=DATE:20210527
DTEND;VALUE=DATE:20210528
DTSTAMP:20260425T055328
CREATED:20210517T010700Z
LAST-MODIFIED:20210622T224644Z
UID:23767-1622073600-1622159999@www.hibs.school.nz
SUMMARY:IH StingBall and basketball HMs out full day – 2 HMs freed each period
DESCRIPTION:
URL:https://www.hibs.school.nz/event/ih-stingball-and-basketball-hms-out-full-day-2-hms-freed-each-period/
END:VEVENT
END:VCALENDAR