BEGIN:VCALENDAR
VERSION:2.0
PRODID:-//Hutt International Boys&#039; School - ECPv5.1.6//NONSGML v1.0//EN
CALSCALE:GREGORIAN
METHOD:PUBLISH
X-WR-CALNAME:Hutt International Boys&#039; School
X-ORIGINAL-URL:https://www.hibs.school.nz
X-WR-CALDESC:Events for Hutt International Boys&#039; School
BEGIN:VTIMEZONE
TZID:Pacific/Auckland
BEGIN:STANDARD
TZOFFSETFROM:+1300
TZOFFSETTO:+1200
TZNAME:NZST
DTSTART:20240406T140000
END:STANDARD
BEGIN:DAYLIGHT
TZOFFSETFROM:+1200
TZOFFSETTO:+1300
TZNAME:NZDT
DTSTART:20240928T140000
END:DAYLIGHT
END:VTIMEZONE
BEGIN:VEVENT
DTSTART;TZID=Pacific/Auckland:20240923T180000
DTEND;TZID=Pacific/Auckland:20240923T200000
DTSTAMP:20260425T234115
CREATED:20240730T235343Z
LAST-MODIFIED:20240919T005859Z
UID:28471-1727114400-1727121600@www.hibs.school.nz
SUMMARY:Hillary House Awards
DESCRIPTION:
URL:https://www.hibs.school.nz/event/hillary-house-awards-3/
END:VEVENT
END:VCALENDAR