BEGIN:VCALENDAR
VERSION:2.0
PRODID:-//Hutt International Boys&#039; School - ECPv5.1.6//NONSGML v1.0//EN
CALSCALE:GREGORIAN
METHOD:PUBLISH
X-WR-CALNAME:Hutt International Boys&#039; School
X-ORIGINAL-URL:https://www.hibs.school.nz
X-WR-CALDESC:Events for Hutt International Boys&#039; School
BEGIN:VTIMEZONE
TZID:Pacific/Auckland
BEGIN:STANDARD
TZOFFSETFROM:+1300
TZOFFSETTO:+1200
TZNAME:NZST
DTSTART:20250405T140000
END:STANDARD
BEGIN:DAYLIGHT
TZOFFSETFROM:+1200
TZOFFSETTO:+1300
TZNAME:NZDT
DTSTART:20250927T140000
END:DAYLIGHT
END:VTIMEZONE
BEGIN:VEVENT
DTSTART;TZID=Pacific/Auckland:20250312T080000
DTEND;TZID=Pacific/Auckland:20250312T170000
DTSTAMP:20260423T133746
CREATED:20250204T022144Z
LAST-MODIFIED:20250204T022144Z
UID:29027-1741766400-1741798800@www.hibs.school.nz
SUMMARY:HIBS Yr 7&8 Lindesfarne Exchange
DESCRIPTION:Games are being played here
URL:https://www.hibs.school.nz/event/hibs-yr-78-lindesfarne-exchange/
END:VEVENT
END:VCALENDAR