BEGIN:VCALENDAR
VERSION:2.0
PRODID:-//Hutt International Boys&#039; School - ECPv5.1.6//NONSGML v1.0//EN
CALSCALE:GREGORIAN
METHOD:PUBLISH
X-WR-CALNAME:Hutt International Boys&#039; School
X-ORIGINAL-URL:https://www.hibs.school.nz
X-WR-CALDESC:Events for Hutt International Boys&#039; School
BEGIN:VTIMEZONE
TZID:Pacific/Auckland
BEGIN:STANDARD
TZOFFSETFROM:+1300
TZOFFSETTO:+1200
TZNAME:NZST
DTSTART:20260404T140000
END:STANDARD
BEGIN:DAYLIGHT
TZOFFSETFROM:+1200
TZOFFSETTO:+1300
TZNAME:NZDT
DTSTART:20260926T140000
END:DAYLIGHT
END:VTIMEZONE
BEGIN:VEVENT
DTSTART;TZID=Pacific/Auckland:20260203T084000
DTEND;TZID=Pacific/Auckland:20260203T151500
DTSTAMP:20260423T181741
CREATED:20250716T225031Z
LAST-MODIFIED:20250716T225031Z
UID:29772-1770108000-1770131700@www.hibs.school.nz
SUMMARY:Full school begins
DESCRIPTION:All students to attend today
URL:https://www.hibs.school.nz/event/full-school-begins/
END:VEVENT
END:VCALENDAR