BEGIN:VCALENDAR
VERSION:2.0
PRODID:-//Hutt International Boys&#039; School - ECPv5.1.6//NONSGML v1.0//EN
CALSCALE:GREGORIAN
METHOD:PUBLISH
X-WR-CALNAME:Hutt International Boys&#039; School
X-ORIGINAL-URL:https://www.hibs.school.nz
X-WR-CALDESC:Events for Hutt International Boys&#039; School
BEGIN:VTIMEZONE
TZID:Pacific/Auckland
BEGIN:STANDARD
TZOFFSETFROM:+1300
TZOFFSETTO:+1200
TZNAME:NZST
DTSTART:20230401T140000
END:STANDARD
BEGIN:DAYLIGHT
TZOFFSETFROM:+1200
TZOFFSETTO:+1300
TZNAME:NZDT
DTSTART:20230923T140000
END:DAYLIGHT
END:VTIMEZONE
BEGIN:VEVENT
DTSTART;TZID=Pacific/Auckland:20230616T080000
DTEND;TZID=Pacific/Auckland:20230616T170000
DTSTAMP:20260424T025356
CREATED:20230512T023822Z
LAST-MODIFIED:20230512T023956Z
UID:27057-1686902400-1686934800@www.hibs.school.nz
SUMMARY:Full Reports out for Yr 10 - 13
DESCRIPTION:
URL:https://www.hibs.school.nz/event/full-reports-out-for-yr-10-13/
END:VEVENT
END:VCALENDAR