BEGIN:VCALENDAR
VERSION:2.0
PRODID:-//Hutt International Boys&#039; School - ECPv5.1.6//NONSGML v1.0//EN
CALSCALE:GREGORIAN
METHOD:PUBLISH
X-WR-CALNAME:Hutt International Boys&#039; School
X-ORIGINAL-URL:https://www.hibs.school.nz
X-WR-CALDESC:Events for Hutt International Boys&#039; School
BEGIN:VTIMEZONE
TZID:Pacific/Auckland
BEGIN:STANDARD
TZOFFSETFROM:+1300
TZOFFSETTO:+1200
TZNAME:NZST
DTSTART:20260404T140000
END:STANDARD
BEGIN:DAYLIGHT
TZOFFSETFROM:+1200
TZOFFSETTO:+1300
TZNAME:NZDT
DTSTART:20260926T140000
END:DAYLIGHT
END:VTIMEZONE
BEGIN:VEVENT
DTSTART;TZID=Pacific/Auckland:20260210T120000
DTEND;TZID=Pacific/Auckland:20260210T130000
DTSTAMP:20260423T144501
CREATED:20260128T020150Z
LAST-MODIFIED:20260128T020150Z
UID:30274-1770724800-1770728400@www.hibs.school.nz
SUMMARY:Formal Academic Assembly
DESCRIPTION:All students to be in full formal uniform
URL:https://www.hibs.school.nz/event/formal-academic-assembly-5/
END:VEVENT
END:VCALENDAR