BEGIN:VCALENDAR
VERSION:2.0
PRODID:-//Hutt International Boys&#039; School - ECPv5.1.6//NONSGML v1.0//EN
CALSCALE:GREGORIAN
METHOD:PUBLISH
X-WR-CALNAME:Hutt International Boys&#039; School
X-ORIGINAL-URL:https://www.hibs.school.nz
X-WR-CALDESC:Events for Hutt International Boys&#039; School
BEGIN:VTIMEZONE
TZID:Pacific/Auckland
BEGIN:STANDARD
TZOFFSETFROM:+1300
TZOFFSETTO:+1200
TZNAME:NZST
DTSTART:20230401T140000
END:STANDARD
BEGIN:DAYLIGHT
TZOFFSETFROM:+1200
TZOFFSETTO:+1300
TZNAME:NZDT
DTSTART:20230923T140000
END:DAYLIGHT
END:VTIMEZONE
BEGIN:VEVENT
DTSTART;TZID=Pacific/Auckland:20230515T183000
DTEND;TZID=Pacific/Auckland:20230515T203000
DTSTAMP:20260425T230355
CREATED:20230328T225241Z
LAST-MODIFIED:20230511T012910Z
UID:26957-1684175400-1684182600@www.hibs.school.nz
SUMMARY:Drama Performance Evening - Cancelled
DESCRIPTION:
URL:https://www.hibs.school.nz/event/drama-production-evening/
END:VEVENT
END:VCALENDAR