BEGIN:VCALENDAR
VERSION:2.0
PRODID:-//Hutt International Boys&#039; School - ECPv5.1.6//NONSGML v1.0//EN
CALSCALE:GREGORIAN
METHOD:PUBLISH
X-WR-CALNAME:Hutt International Boys&#039; School
X-ORIGINAL-URL:https://www.hibs.school.nz
X-WR-CALDESC:Events for Hutt International Boys&#039; School
BEGIN:VTIMEZONE
TZID:Pacific/Auckland
BEGIN:STANDARD
TZOFFSETFROM:+1300
TZOFFSETTO:+1200
TZNAME:NZST
DTSTART:20240406T140000
END:STANDARD
BEGIN:DAYLIGHT
TZOFFSETFROM:+1200
TZOFFSETTO:+1300
TZNAME:NZDT
DTSTART:20240928T140000
END:DAYLIGHT
END:VTIMEZONE
BEGIN:VEVENT
DTSTART;TZID=Pacific/Auckland:20240308T084000
DTEND;TZID=Pacific/Auckland:20240308T150000
DTSTAMP:20260423T170818
CREATED:20240208T020943Z
LAST-MODIFIED:20240208T020943Z
UID:27836-1709887200-1709910000@www.hibs.school.nz
SUMMARY:Casual Day for International Service
DESCRIPTION:$2.00 per student
URL:https://www.hibs.school.nz/event/casual-day-for-international-service/
END:VEVENT
END:VCALENDAR