BEGIN:VCALENDAR
VERSION:2.0
PRODID:-//Hutt International Boys&#039; School - ECPv5.1.6//NONSGML v1.0//EN
CALSCALE:GREGORIAN
METHOD:PUBLISH
X-WR-CALNAME:Hutt International Boys&#039; School
X-ORIGINAL-URL:https://www.hibs.school.nz
X-WR-CALDESC:Events for Hutt International Boys&#039; School
BEGIN:VTIMEZONE
TZID:Pacific/Auckland
BEGIN:STANDARD
TZOFFSETFROM:+1300
TZOFFSETTO:+1200
TZNAME:NZST
DTSTART:20240406T140000
END:STANDARD
BEGIN:DAYLIGHT
TZOFFSETFROM:+1200
TZOFFSETTO:+1300
TZNAME:NZDT
DTSTART:20240928T140000
END:DAYLIGHT
END:VTIMEZONE
BEGIN:VEVENT
DTSTART;TZID=Pacific/Auckland:20240703T080000
DTEND;TZID=Pacific/Auckland:20240703T150000
DTSTAMP:20260420T092443
CREATED:20240604T035440Z
LAST-MODIFIED:20240604T035440Z
UID:28342-1719993600-1720018800@www.hibs.school.nz
SUMMARY:Casual Day for Foodbank
DESCRIPTION:$2 per student
URL:https://www.hibs.school.nz/event/casual-day-for-foodbank/
END:VEVENT
END:VCALENDAR