BEGIN:VCALENDAR
VERSION:2.0
PRODID:-//Hutt International Boys&#039; School - ECPv5.1.6//NONSGML v1.0//EN
CALSCALE:GREGORIAN
METHOD:PUBLISH
X-WR-CALNAME:Hutt International Boys&#039; School
X-ORIGINAL-URL:https://www.hibs.school.nz
X-WR-CALDESC:Events for Hutt International Boys&#039; School
BEGIN:VTIMEZONE
TZID:Pacific/Auckland
BEGIN:STANDARD
TZOFFSETFROM:+1300
TZOFFSETTO:+1200
TZNAME:NZST
DTSTART:20230401T140000
END:STANDARD
BEGIN:DAYLIGHT
TZOFFSETFROM:+1200
TZOFFSETTO:+1300
TZNAME:NZDT
DTSTART:20230923T140000
END:DAYLIGHT
END:VTIMEZONE
BEGIN:VEVENT
DTSTART;TZID=Pacific/Auckland:20230623T080000
DTEND;TZID=Pacific/Auckland:20230623T170000
DTSTAMP:20260423T141421
CREATED:20230512T024305Z
LAST-MODIFIED:20230512T024305Z
UID:27059-1687507200-1687539600@www.hibs.school.nz
SUMMARY:Casual Day $2.00 per student
DESCRIPTION:Proceeds going to disadvantaged children
URL:https://www.hibs.school.nz/event/casual-day-2-00-per-student/
END:VEVENT
END:VCALENDAR