BEGIN:VCALENDAR
VERSION:2.0
PRODID:-//Hutt International Boys&#039; School - ECPv5.1.6//NONSGML v1.0//EN
CALSCALE:GREGORIAN
METHOD:PUBLISH
X-WR-CALNAME:Hutt International Boys&#039; School
X-ORIGINAL-URL:https://www.hibs.school.nz
X-WR-CALDESC:Events for Hutt International Boys&#039; School
BEGIN:VTIMEZONE
TZID:Pacific/Auckland
BEGIN:STANDARD
TZOFFSETFROM:+1300
TZOFFSETTO:+1200
TZNAME:NZST
DTSTART:20240406T140000
END:STANDARD
BEGIN:DAYLIGHT
TZOFFSETFROM:+1200
TZOFFSETTO:+1300
TZNAME:NZDT
DTSTART:20240928T140000
END:DAYLIGHT
END:VTIMEZONE
BEGIN:VEVENT
DTSTART;TZID=Pacific/Auckland:20240213T001000
DTEND;TZID=Pacific/Auckland:20240213T125500
DTSTAMP:20260422T184255
CREATED:20231105T222949Z
LAST-MODIFIED:20231105T222949Z
UID:27689-1707783000-1707828900@www.hibs.school.nz
SUMMARY:Academic Assembly today
DESCRIPTION:-Formal Academic Assembly today –Students in formal uniform
URL:https://www.hibs.school.nz/event/academic-assembly-today/
END:VEVENT
END:VCALENDAR